BEGIN:VCALENDAR
VERSION:2.0
PRODID:-//The BackStoppers, Inc. - ECPv6.15.20//NONSGML v1.0//EN
CALSCALE:GREGORIAN
METHOD:PUBLISH
X-WR-CALNAME:The BackStoppers, Inc.
X-ORIGINAL-URL:https://backstoppers.org
X-WR-CALDESC:Events for The BackStoppers, Inc.
REFRESH-INTERVAL;VALUE=DURATION:PT1H
X-Robots-Tag:noindex
X-PUBLISHED-TTL:PT1H
BEGIN:VTIMEZONE
TZID:UTC
BEGIN:STANDARD
TZOFFSETFROM:+0000
TZOFFSETTO:+0000
TZNAME:UTC
DTSTART:20190101T000000
END:STANDARD
END:VTIMEZONE
BEGIN:VEVENT
DTSTART;TZID=UTC:20200201T190000
DTEND;TZID=UTC:20200201T233000
DTSTAMP:20260423T073413
CREATED:20191204T222247Z
LAST-MODIFIED:20191204T222247Z
UID:4723-1580583600-1580599800@backstoppers.org
SUMMARY:4th Annual Fundraiser for BackStoppers
DESCRIPTION:Michael Welch presents the 4th Annual Fundraiser for BackStoppers on Saturday\, February 1st at 909 Public House!\n• 7pm to 1am\n•A.D.D. Band from 8pm to Midnight\n•50/50\n•Silent Auction\n•$10 Cover Charge\n•For Inquires or Silent Auction Opportunities Contact: Michael Welch at (636) 542-1970\nFlyer \nThe BackStoppers is solely a recipient of the proceeds and not an organizer of the event.
URL:https://backstoppers.org/events/4th-annual-fundraiser-for-backstoppers/
LOCATION:909 Public House\, 909 Main Plaza Dr.\, Wentzville\, MO\, 63385\, United States
END:VEVENT
BEGIN:VEVENT
DTSTART;TZID=UTC:20200208T100000
DTEND;TZID=UTC:20200208T200000
DTSTAMP:20260423T073413
CREATED:20200117T014555Z
LAST-MODIFIED:20200117T014555Z
UID:4761-1581156000-1581192000@backstoppers.org
SUMMARY:Kendra Scott Gives Back
DESCRIPTION:Kendra Scott\, the Central West End location\, presents a St. Louis City Police Appreciation Day on Saturday\, February 8th! \n•Sips\, Sweets and 15% off any purchase for officers and their family members\n•From 1pm to 3pm 20% of all purchases will benefit BackStoppers \nThe BackStoppers is solely a recipient of the proceeds and not an organizer of the event.
URL:https://backstoppers.org/events/kendra-scott-gives-back/
LOCATION:Kendra Scott CWE\, 32 Maryland Plaza\, St. Louis\, MO\, 63108\, United States
END:VEVENT
BEGIN:VEVENT
DTSTART;TZID=UTC:20200209T140000
DTEND;TZID=UTC:20200209T160000
DTSTAMP:20260423T073413
CREATED:20200127T221742Z
LAST-MODIFIED:20200127T221742Z
UID:4765-1581256800-1581264000@backstoppers.org
SUMMARY:Fallon's Great Cookie Showdown
DESCRIPTION:Fallon’s Bar & Grill presents The Great Cookie Showdown on Sunday\, February 9th from 2pm to 4pm! \n•Adult Entry Tickets: $10\, Children Entry Tickets $5\n•Proceeds from each ticket sale will benefit a charity including BackStoppers\, American Lung Association\, St. Louis Ovarian Cancer Awareness\, Alzheimer’s Association Greater Missouri Chapter\, Alissa’s Hope and Sweet Celebrations\n•All cookies must be created prior to the event and ready to be presented\n•Purchase Ticket Here \nFor Rules\, Inquires or More Details Contact: Lexi at eventsatfallonsbar@gmail.com \nThe BackStoppers is solely a recipient of the proceeds and not an organizer of the event.
URL:https://backstoppers.org/events/fallons-great-cookie-showdown/
LOCATION:Fallon’s Bar and Grill\, 9200 Olive Blvd. Suite 116\, Olivette\, MO\, 63132\, United States
END:VEVENT
BEGIN:VEVENT
DTSTART;TZID=UTC:20200221T173000
DTEND;TZID=UTC:20200221T193000
DTSTAMP:20260423T073413
CREATED:20200204T215939Z
LAST-MODIFIED:20200204T215939Z
UID:4778-1582306200-1582313400@backstoppers.org
SUMMARY:Holt High School First Responders Game
DESCRIPTION:Wentzville Holt High School Student Council presents a First Responders Night during the basketball game on Friday\, February 21st at 5:30pm. \n•Donations Benefiting BackStoppers\n•Raffles and T-Shirts\n•First Responders are invited and will be honored throughout the game \nThe BackStoppers is solely a recipient of the proceeds and not an organizer of the event.
URL:https://backstoppers.org/events/holt-high-school-first-responders-game/
LOCATION:Holt High School\, 600 Campus Dr.\, Wentzville\, MO\, 63385\, United States
END:VEVENT
BEGIN:VEVENT
DTSTART;TZID=UTC:20200221T183000
DTEND;TZID=UTC:20200221T210000
DTSTAMP:20260423T073413
CREATED:20200117T013610Z
LAST-MODIFIED:20200117T013610Z
UID:4760-1582309800-1582318800@backstoppers.org
SUMMARY:Brentwood Ice Festival
DESCRIPTION:Brentwood Parks And Recreation presents the Brentwood Ice Festival benefiting BackStoppers on Friday\, February 21st at the Brentwood Ice Rink from 6:30pm to 9pm. \n•Open Skate with First Responders\n•Live Ice Sculpting\n•St. Louis Blues Mascot\, Louie and Princesses\n•Face Painting\n• Truck Norris Food Truck\n• Mad Science– Two Performances of Fire & Ice\n•Raffles\n• Minimum $10 Donation Requested at Door \nThe BackStoppers is solely a recipient of the proceeds and not an organizer of the event.
URL:https://backstoppers.org/events/brentwood-ice-festival/
LOCATION:Brentwood Ice Rink\, 2505 S. Brentwood Blvd.\, Brentwood\, MO\, 63144\, United States
END:VEVENT
BEGIN:VEVENT
DTSTART;TZID=UTC:20200229T100000
DTEND;TZID=UTC:20200229T190000
DTSTAMP:20260423T073413
CREATED:20200204T222119Z
LAST-MODIFIED:20200204T222417Z
UID:4779-1582970400-1583002800@backstoppers.org
SUMMARY:Kloss Furniture First Responders Day
DESCRIPTION:All Kloss Furniture & Outlet locations presents a First Responders Day on Saturday\, February 29th from 10am to 7pm. \n•5% of sales from the day will benefit BackStoppers\n•Special discounts available for first responders\nFlyer \nThe BackStoppers is solely a recipient of the proceeds and not an organizer of the event.
URL:https://backstoppers.org/events/kloss-furniture-first-responders-day/
LOCATION:All Kloss Furniture & Outlet Locations
END:VEVENT
BEGIN:VEVENT
DTSTART;TZID=UTC:20200229T120000
DTEND;TZID=UTC:20200229T160000
DTSTAMP:20260423T073413
CREATED:20200102T230322Z
LAST-MODIFIED:20200102T230322Z
UID:4738-1582977600-1582992000@backstoppers.org
SUMMARY:Red vs Blue Chili and Brew
DESCRIPTION:The Riverview Police Department and the Riverview Fire Protection District presents the Red vs. Blue Chili and Brew Fundraiser benefiting BackStoppers on Saturday\, February 29th at the Knights of Columbus Hall from 12pm to 4pm. \n•Police vs. Fire Chili Cook Off Competition\n•$10 Entry Fee in Advanced or $10 Donation at the Door\n• Cash Bar\n•50/50\n•Raffles\n•Inquiries Contact: Sarah or Kim at Riverview City Hall (314) 868-0700\nFlyer \nThe BackStoppers is solely a recipient of the proceeds and not an organizer of the event.
URL:https://backstoppers.org/events/red-vs-blue-chili-and-brew/
LOCATION:Knights of Columbus Hall\, 800 Chambers Rd\, St. Louis\, MO\, 63137\, United States
END:VEVENT
END:VCALENDAR