BEGIN:VCALENDAR
VERSION:2.0
PRODID:-//The BackStoppers, Inc. - ECPv6.15.20//NONSGML v1.0//EN
CALSCALE:GREGORIAN
METHOD:PUBLISH
X-WR-CALNAME:The BackStoppers, Inc.
X-ORIGINAL-URL:https://backstoppers.org
X-WR-CALDESC:Events for The BackStoppers, Inc.
REFRESH-INTERVAL;VALUE=DURATION:PT1H
X-Robots-Tag:noindex
X-PUBLISHED-TTL:PT1H
BEGIN:VTIMEZONE
TZID:UTC
BEGIN:STANDARD
TZOFFSETFROM:+0000
TZOFFSETTO:+0000
TZNAME:UTC
DTSTART:20190101T000000
END:STANDARD
END:VTIMEZONE
BEGIN:VTIMEZONE
TZID:UTC
BEGIN:STANDARD
TZOFFSETFROM:+0000
TZOFFSETTO:+0000
TZNAME:UTC
DTSTART:20190101T000000
END:STANDARD
END:VTIMEZONE
BEGIN:VEVENT
DTSTART;TZID=UTC:20200112T080000
DTEND;TZID=UTC:20200112T120000
DTSTAMP:20260423T085725
CREATED:20191212T034202Z
LAST-MODIFIED:20191212T034202Z
UID:4727-1578816000-1578830400@backstoppers.org
SUMMARY:Bartelso Breakfast for BackStoppers
DESCRIPTION:The Bartelso Knights of Columbus and Santa Fe Volunteer Fire Department present a Breakfast for BackStoppers on Sunday\, January 12th at the Bartelso School Cafeteria.\n•8am to Noon\n•Carryouts Available\n• Serving pork sausage\, potatoes\, eggs\, and pancakes\nFlyer \nThe BackStoppers is solely a recipient of the proceeds and not an organizer of the event.
URL:https://backstoppers.org/events/bartelso-breakfast-for-backstoppers/
LOCATION:Bartelso Grade School\, 306 S. Washington St.\, Bartelso\, MO\, 62218\, United States
END:VEVENT
BEGIN:VEVENT
DTSTART;TZID=UTC:20200118T184500
DTEND;TZID=UTC:20200118T233000
DTSTAMP:20260423T085725
CREATED:20191119T022817Z
LAST-MODIFIED:20191119T022817Z
UID:4696-1579373100-1579390200@backstoppers.org
SUMMARY:Team Elite Dance Party
DESCRIPTION:The 21st Annual Team Elite Dance Party for BackStoppers will be on Saturday\, January 18th at the Moolah Shrine Center! \n•Doors & Silent Auction Open at 6:45pm\n•$20 Donation\, Pay at the Door\n•Live Music Presented by Arvell and Company\n•Cash Bars (No BYOB)\, Must be 21 and Over\n•Cocktail Attire\n•Dancing\n•Premiere Silent Auction (6:45pm to 10pm)\n•50/50\n•Reserved Tables and Seats: VIP Table of 10- $175\, Single Seats $20 ($20 Donation Not Included)\n•To Reserve Contact: Deb (314) 378-2729\nFlyer \nBackStoppers is solely a recipient of the proceeds and not an organizer of the event.
URL:https://backstoppers.org/events/team-elite-dance-party/
LOCATION:Moolah Shriners\, 12545 Fee Fee Rd.\, St. Louis\, MO\, 63146\, United States
END:VEVENT
BEGIN:VEVENT
DTSTART;TZID=UTC:20200119T070000
DTEND;TZID=UTC:20200119T110000
DTSTAMP:20260423T085725
CREATED:20200107T233657Z
LAST-MODIFIED:20200107T233657Z
UID:4745-1579417200-1579431600@backstoppers.org
SUMMARY:Germantown FD Breakfast
DESCRIPTION:Germantown Volunteer Fire Department presents an Annual Breakfast benefiting BackStoppers on Sunday\, January 19th from 7am to 11am. \n•Pancakes\, Eggs\, Sausage\, Biscuits & Gravy\, Cornbread\, Potatoes\, Milk/Coffee\n•Carry Outs Available\n•Free to All First Responders\nFlyer
URL:https://backstoppers.org/events/germantown-fd-breakfast/
LOCATION:Germantown American Legion Post-325\, 1105 Sycamore St.\, Germantown\, IL\, 62245\, United States
END:VEVENT
BEGIN:VEVENT
DTSTART;TZID=UTC:20200125T180000
DTEND;TZID=UTC:20200125T230000
DTSTAMP:20260423T085725
CREATED:20200114T232730Z
LAST-MODIFIED:20200114T232730Z
UID:4753-1579975200-1579993200@backstoppers.org
SUMMARY:Mehlville Firefighters Trivia Night
DESCRIPTION:The Mehlville Firefighters Local 2665 presents the 14th Annual Trivia Night benefiting BackStoppers on Saturday\, January 25th at St. Matthias Catholic Church.\n•Doors Open at 6pm\, Trivia Begins at 7pm\n• $20 Per Player/ $160 Per Table of 8\n•Includes Beer\, Soda and Light Snacks\n•50/50\, Basket Raffles and Silent Auction\n•Register Online\n•Mail In Registration Form on Event Wall\n•Limited Seats Available at the Door\n•Inquires Contact: (314) 329-4325 or mehlvillefirefighters@gmail.com\nFlyer \nThe BackStoppers is solely a recipient of the proceeds and not an organizer of the event.
URL:https://backstoppers.org/events/mehlville-firefighters-trivia-night/
LOCATION:St. Matthias Catholic Church\, 800 Buckley Rd.\, St. Louis\, MO\, 63125\, United States
END:VEVENT
END:VCALENDAR