BEGIN:VCALENDAR
VERSION:2.0
PRODID:-//The BackStoppers, Inc. - ECPv6.15.20//NONSGML v1.0//EN
CALSCALE:GREGORIAN
METHOD:PUBLISH
X-WR-CALNAME:The BackStoppers, Inc.
X-ORIGINAL-URL:https://backstoppers.org
X-WR-CALDESC:Events for The BackStoppers, Inc.
REFRESH-INTERVAL;VALUE=DURATION:PT1H
X-Robots-Tag:noindex
X-PUBLISHED-TTL:PT1H
BEGIN:VTIMEZONE
TZID:UTC
BEGIN:STANDARD
TZOFFSETFROM:+0000
TZOFFSETTO:+0000
TZNAME:UTC
DTSTART:20160101T000000
END:STANDARD
END:VTIMEZONE
BEGIN:VEVENT
DTSTART;TZID=UTC:20170913T080000
DTEND;TZID=UTC:20170913T200000
DTSTAMP:20260420T071648
CREATED:20170823T200204Z
LAST-MODIFIED:20170908T220109Z
UID:2494-1505289600-1505332800@backstoppers.org
SUMMARY:Fine Art LTD. Sale
DESCRIPTION:Stop by Fine Art Ltd on September 13th and support The BackStoppers! \n10% of all daily sales will benefit BackStoppers.\n40% to 80% off Fine Art LTD’s inventory\nHarry Weber Sculptures will be 40% off\nBeer\, Wine and Appetizers will be served from 5pm to 8pm \nAmy Camie\, Harpist will provide a musical experience during the event \nAt 6:30pm\, the “Final Painting-Untitled” by Frederic Remington will be auctioned off. \nClick Here to see a photo of the “Final Painting-Untitled” \n  \nThe BackStoppers is solely a recipient of the funds raised and is not an organizer of the event.
URL:https://backstoppers.org/events/fine-art-ltd-sale/
LOCATION:Fine Art Ltd.\, 18350 Chesterfield Airport Rd.\, Chesterfield\, MO\, 63005\, United States
END:VEVENT
BEGIN:VEVENT
DTSTART;TZID=UTC:20170911T070000
DTEND;TZID=UTC:20170911T190000
DTSTAMP:20260420T071648
CREATED:20170907T002543Z
LAST-MODIFIED:20170907T002543Z
UID:2526-1505113200-1505156400@backstoppers.org
SUMMARY:High Ridge McDonald's 9/11 Fundraiser
DESCRIPTION:Honoring the Heroes of 9/11\, McDonald’s will be donating .25 of every Extra Vaule Meal purchase between the hours of 7am to 7pm to The BackStoppers Inc. \nAdditional donations will be accepted \nThere will be a special visit from the Jefferson County Sheriff’s Department and the High Ridge Fire Department from 4pm to 6pm.  \nSee Flyer Here \nThe BackStoppers is solely a recipient of the proceeds and not an organizer of the event.
URL:https://backstoppers.org/events/high-ridge-mcdonalds-911-fundraiser/
LOCATION:McDonald’s High Ridge\, 2701 Ridge Point Drive\, High Ridge\, MO\, 63049\, United States
END:VEVENT
BEGIN:VEVENT
DTSTART;TZID=UTC:20170911T070000
DTEND;TZID=UTC:20170911T190000
DTSTAMP:20260420T071648
CREATED:20170907T002315Z
LAST-MODIFIED:20170907T002315Z
UID:2522-1505113200-1505156400@backstoppers.org
SUMMARY:Byrnes Mill McDonald's 9/11 Fundraiser
DESCRIPTION:Honoring the Heroes of 9/11\, McDonald’s will be donating .25 of every Extra Vaule Meal purchase between the hours of 7am to 7pm to The BackStoppers Inc. \nAdditional donations will be accepted \nSee Flyer Here \nThe BackStoppers is solely a recipient of the proceeds and not an organizer of the event.
URL:https://backstoppers.org/events/byrnes-mill-mcdonalds-911-fundraiser/
LOCATION:McDonald’s Brynes Mill\, 4699 Hwy. W\, Brynes Mill\, MO\, 63051\, United States
END:VEVENT
BEGIN:VEVENT
DTSTART;TZID=UTC:20170911T070000
DTEND;TZID=UTC:20170911T190000
DTSTAMP:20260420T071648
CREATED:20170905T204845Z
LAST-MODIFIED:20170905T204845Z
UID:2519-1505113200-1505156400@backstoppers.org
SUMMARY:Arnold McDonald's 9/11 Fundraiser
DESCRIPTION:Honoring the Heroes of 9/11\, McDonald’s will be donating .25 of every Extra Vaule Meal purchase between the hours of 7am to 7pm to The BackStoppers Inc. \nThese Arnold Locations will be participating in this Event.\nMcDonald’s (Arnold Crossroads)\nMcDonald’s (Jeffco Blvd.)\nMcDonald’s (Richardson Rd.) \nAdditional donations will be accepted \nSee Flyer Here \nThe BackStoppers is solely a recipient of the proceeds and not an organizer of the event.
URL:https://backstoppers.org/events/arnold-mcdonalds-911-fundraiser/
LOCATION:MO
END:VEVENT
BEGIN:VEVENT
DTSTART;TZID=UTC:20170911T070000
DTEND;TZID=UTC:20170911T190000
DTSTAMP:20260420T071648
CREATED:20170905T203825Z
LAST-MODIFIED:20170905T203825Z
UID:2516-1505113200-1505156400@backstoppers.org
SUMMARY:Fenton McDonald's 9/11 Fundraiser
DESCRIPTION:Honoring the Heroes of 9/11\, McDonald’s will be donating .25 of every Extra Vaule Meal purchase between the hours of 7am to 7pm to The BackStoppers Inc. \nAdditional donations will be accepted \nThere will be a special visit from the Fenton Fire Protection District from 4pm to 6pm. \nSee Flyer Here \nThe BackStoppers is solely a recipient of the proceeds and not an organizer of the event.
URL:https://backstoppers.org/events/fenton-mcdonalds-911-fundraiser/
LOCATION:McDonald’s\, 501 Old Smizer Mill Rd.\, Fenton\, MO\, 63026\, United States
END:VEVENT
BEGIN:VEVENT
DTSTART;TZID=UTC:20170910T140000
DTEND;TZID=UTC:20170910T170000
DTSTAMP:20260420T071648
CREATED:20170809T005724Z
LAST-MODIFIED:20170809T005724Z
UID:2464-1505052000-1505062800@backstoppers.org
SUMMARY:SCC Campus PD & Cotteville Police vs. Cottleville Fire District
DESCRIPTION:Come out and watch the SCC Campus PD & Cottleville Police Department vs. Cottleville Fire Protection District Softball Game on Sunday September 10th from 2pm-5pm at St. Charles Community College! \nThis game benefits the SCC Foundation Student Emergency Relief Fund\, The BackStoppers Inc. and Responder Rescue Inc. \nTickets are a $5 donation\nThis Event will also feature 50/50 drawings and raffles\nMake all checks payable to SCC Foundation \nParking: Enter the North Entrance on Mid Rivers Mall Drive. The closest parking is available on the orange parking lot. \nFor more information please contact:\nBob Ronkoski\, Chief of Police\nSt. Charles Community College\n636-922-8604 OR rronkoski@stchas.edu \nThis Event is held in conjunction with the Cottleville-Weldon Spring Chamber of Commerce First Responder Weekend benefitting The BackStoppers and Responder Rescue.\n 
URL:https://backstoppers.org/events/scc-campus-pd-cotteville-police-vs-cottleville-fire-district/
LOCATION:St. Charles Community College\, Mid Rivers Dr.\, Cottleville\, MO\, 63376\, United States
END:VEVENT
BEGIN:VEVENT
DTSTART;TZID=UTC:20170910T130000
DTEND;TZID=UTC:20170910T163000
DTSTAMP:20260420T071648
CREATED:20170724T211305Z
LAST-MODIFIED:20170726T214542Z
UID:2399-1505048400-1505061000@backstoppers.org
SUMMARY:Bridge Haven Game For BackStoppers
DESCRIPTION:Join the Bridge Haven Bridge Game benefitting The BackStoppers Inc. at the St. Louis Bridge Center on September 10th beginning at 1pm. \nBid to play with a Bridge Pro\nBidding ends at 10am on August 20th\nTo place bid to play or any inquires contact Barbara at 314-374-6027 \nSee Flyer Here \nThe BackStoppers is solely a recipient of the proceeds and not an organizer of the event.
URL:https://backstoppers.org/events/bridge-haven-game-backstoppers/
LOCATION:St. Louis Bridge Center\, 1270 N. Price\, St. Louis\, MO\, 63132\, United States
END:VEVENT
BEGIN:VEVENT
DTSTART;TZID=UTC:20170910T080000
DTEND;TZID=UTC:20170910T110000
DTSTAMP:20260420T071648
CREATED:20170822T195242Z
LAST-MODIFIED:20170822T195242Z
UID:2492-1505030400-1505041200@backstoppers.org
SUMMARY:7th Annual Patriot Day Run
DESCRIPTION:Join us for the 7th Annual Patriot Day Run at the CarShield Field\, Rascal’s Stadium\, on September 10th from 8am-11am. \nThis Run includes: A 5k & 10k starting at 8am\n1 Mile Fun Run\n1/4 Mile Solider March at 8:30am \nRegistration\n5K registration is $25 prior to 6/1/17\, $35 from 6/1/17 through 8/31/17\, $40 9/1/17 through 9/6/17\, $45 day of race\n10K registration is $30 prior to 6/1/17\, $40 from 6/1/17 through 8/31/17 \, $45 9/1/17 through 9/6/17\, $50 day of race\nOther Registrations: 1 Mile $25; 1/4 Mile March $20\, Virtual Runner $25\nAll registrations include technical race shirt. All participants receive challenge coin.\nAvailability of shirts not guaranteed if registering after 8/31/17 \nFor Registration or Volunteer Opportunities \nThis event benefits the USO of Missouri\, Inc. and The BackStoppers Inc. \nSee Flyer Here
URL:https://backstoppers.org/events/7th-annual-patriot-day-run/
LOCATION:CarShield Field\, 900 T R Hughes Blvd.\, O'Fallon\, MO\, 63366\, United States
END:VEVENT
BEGIN:VEVENT
DTSTART;TZID=UTC:20170909T150000
DTEND;TZID=UTC:20170909T190000
DTSTAMP:20260420T071648
CREATED:20170724T221127Z
LAST-MODIFIED:20170801T201715Z
UID:2423-1504969200-1504983600@backstoppers.org
SUMMARY:Hawaiian Pig Roast
DESCRIPTION:Join us at Complete Car & RV Repair for a Hawaiian Pig Roast on September 9th from 3pm-9pm. \nDinner Begins at 5pm \nAdult Tickets: $20\nChildren Tickets: $10\nTickets may be purchased at the door. Cash Only. \nIncluded in Ticket Price: Free Hawaiian Lei\, Live Entertainment\, Giveaways\, Bouncy House and Silent Auction. \nFor more information contact: 636-724-2232 \nSee Flyer Here \nThis Event is Sponsored by Complete Car & RV Repair and Benefits The BackStoppers Inc.
URL:https://backstoppers.org/events/hawaiian-pig-roast/
LOCATION:Complete Car & RV Repair\, 3309 New Town Blvd.\, St. Charles\, MO\, 63301\, United States
END:VEVENT
BEGIN:VEVENT
DTSTART;TZID=UTC:20170909T130000
DTEND;TZID=UTC:20170909T190000
DTSTAMP:20260420T071648
CREATED:20170724T210904Z
LAST-MODIFIED:20170724T210904Z
UID:2395-1504962000-1504983600@backstoppers.org
SUMMARY:Perryville BackStoppers Fundraiser
DESCRIPTION:Join us at the The Barrens Winery in Perryville on Saturday September\, 9th from 1pm to 7pm and support The BackStoppers Inc.! \nThis event will feature fun\, food\, and games inlcuding a Grape Stomp starting at 2pm!  \nSee Flyer Here \nThe BackStoppers is solely a recipient of the proceeds and not an organizer of the event.
URL:https://backstoppers.org/events/perryville-backstoppers-fundraiser/
LOCATION:The Barrens Winery\, 2815 N Highway 51\, Perryville\, MO\, 63775\, United States
END:VEVENT
BEGIN:VEVENT
DTSTART;TZID=UTC:20170909T110000
DTEND;TZID=UTC:20170909T130000
DTSTAMP:20260420T071648
CREATED:20170821T212013Z
LAST-MODIFIED:20170821T212013Z
UID:2486-1504954800-1504962000@backstoppers.org
SUMMARY:Country Club Car Wash
DESCRIPTION:Country Club Car Wash O’Fallon\, MO is hosting an event to support The BackStoppers with silent auction items\, raffles\, and free hot dogs! Local police and fire departments will be making appearances. Stop by 2999 Highway K from 11am – 1pm on Saturday\, September 9th to support your local first responders! \n The BackStoppers is solely a recipient of the funds raised and is not an organizer of the event.
URL:https://backstoppers.org/events/country-club-car-wash-2/
LOCATION:Country Club Car Wash O’Fallon\, 2999 Highway K\, O'Fallon\, MO\, 63368\, United States
END:VEVENT
BEGIN:VEVENT
DTSTART;TZID=UTC:20170908T083000
DTEND;TZID=UTC:20170908T160000
DTSTAMP:20260420T071648
CREATED:20170724T210247Z
LAST-MODIFIED:20170830T015709Z
UID:2388-1504859400-1504886400@backstoppers.org
SUMMARY:Complete Auto Golf Scramble
DESCRIPTION:Complete Auto Body & Truck Repair is gearing up for the 15th Annual Complete Auto Body & Repair Charity Golf Scramble. This event will be on September 8th at Florissant Golf Club. \nRegistration Fee Before August 1st: $140 per golfer/ $560 per 4 man team\nAfter August 1st: $150 per golfer/ $600 per 4 man team\nThis includes: Cart fees\, Merchandise\, Breakfast\, Food throughout the day on the course\, refreshments\, games\, prizes\, raffles and more! \nSee Registration Flyer Here OR mail to:\nComplete Auto Body & Repair C/O BackStoppers\n6041 North Lindbergh Blvd.\nHazelwood\, MO 63042 \nFor more information or inquires please contact: (314)-731-7999 or christina.rayfield@completeab.com and kurtbarks@completeab.com \nThis event benefits Responder Rescue Inc. and The BackStoppers through Budweiser Guns ‘N Hoses. The BackStoppers is not an organizer of the event. \n         \n  \n\n 
URL:https://backstoppers.org/events/complete-auto-golf-scramble/
LOCATION:Florissant Golf Club\, 50 Country Club Ln.\, Florissant\, MO\, 63033\, United States
END:VEVENT
BEGIN:VEVENT
DTSTART;TZID=UTC:20170826T173000
DTEND;TZID=UTC:20170826T220000
DTSTAMP:20260420T071648
CREATED:20170724T205250Z
LAST-MODIFIED:20170724T205540Z
UID:2384-1503768600-1503784800@backstoppers.org
SUMMARY:BackStoppalooza
DESCRIPTION:Join us for the 5th Annual BackStoppalooza Concert at the Chesterfield Amphitheater on August 26th! \nThis concert will feature Revelation/A Tribute To Journey with special guests\, A Dog’s Breakfast. \nAdmission is free and all merchandise and food and beverage sales will benefit The BackStoppers Inc. \nDoors open at 5:30pm\nFor more information visit- https://www.chesterfield.mo.us/backstoppalooza.html
URL:https://backstoppers.org/events/backstoppalooza/
LOCATION:Chesterfield Ampitheater\, 631 Veterans Place Dr.\, Chesterfield\, MO\, 63017\, United States
END:VEVENT
BEGIN:VEVENT
DTSTART;TZID=UTC:20170826T073000
DTEND;TZID=UTC:20170826T140000
DTSTAMP:20260420T071648
CREATED:20170724T204804Z
LAST-MODIFIED:20170724T204804Z
UID:2380-1503732600-1503756000@backstoppers.org
SUMMARY:Annual Mike Venker Golf Tournament
DESCRIPTION:Join us for the 2nd Annual Mike Venker Memorial Charity Golf Tournament on August 26th at Columbia Golf Club in Columbia\, Illinois\, Shotgun start at 7:30am. \nEntry fee is $400 per team and $100 per man. This will include: Golf\, BBQ\, Beverages\, Bag of Goodies with a T-Shirt\, Attendance prizes\, Silent Auction and more! \nOn November 23rd\, 2015 Detective Mike Venker passed away having succumbed to Cardiomyopathy Disease\, an illness which he had struggled with for the past 12 years. At the time of Mike’s death he was just 62 years old. Proceeds will be donated in honor of Mike to The BackStoppers. \nSend remittance to Larry Tinnel at 4667 Villa Knoll\, St. Louis\, MO 63128 or call at (314)-565-7411  \nSee Flyer Here \nThe BackStoppers is solely a recipient of the proceeds and not an organizer of the event.
URL:https://backstoppers.org/events/annual-mike-venker-golf-tournament/
LOCATION:Columbia Golf Club Inc.\, 125 AA Road\, Columbia\, IL\, 62236\, United States
END:VEVENT
BEGIN:VEVENT
DTSTART;TZID=UTC:20170825T190000
DTEND;TZID=UTC:20170825T220000
DTSTAMP:20260420T071648
CREATED:20170823T203601Z
LAST-MODIFIED:20170823T203601Z
UID:2496-1503687600-1503698400@backstoppers.org
SUMMARY:Eureka High School First Responder Football Game
DESCRIPTION:Cheer on the Eureka WildCats as they take on the Francis Howell Vikings on Friday\, August 25th at Eureka High School! \nThis game will be dedicated to First Responders and all proceeds will benefit The BackStoppers Inc.
URL:https://backstoppers.org/events/eureka-high-school-first-responder-football-game/
LOCATION:Eureka High School\, 4525 Highway 109\, Eureka\, MO\, 63025\, United States
END:VEVENT
BEGIN:VEVENT
DTSTART;VALUE=DATE:20170819
DTEND;VALUE=DATE:20170820
DTSTAMP:20260420T071648
CREATED:20170803T232252Z
LAST-MODIFIED:20170804T204545Z
UID:2460-1503100800-1503187199@backstoppers.org
SUMMARY:Blarney Stone Customer Appreciation Day
DESCRIPTION:Join Blarney Stone Sports Bar and Grill as they celebrate their 27th Annual Customer Appreciation Day on August 19th! \nThis Event will feature: Live Music\, Guest appearence by Louie of the STL Blues\, Raffles\, Silent Auction and 50/50 drawings. \n50/50s and Raffles will from 2pm to 8pm \nSee Flyer Here \nAll proceed benefit The BackStoppers Inc. \nThe BackStoppers is solely a recipient of the proceeds and not an organizer of the event.
URL:https://backstoppers.org/events/blarney-stone-customer-appreciation-day/
LOCATION:Blarney Stone Sports Bar and Grill\, 4333 Telegraph Rd.\, Oakville\, MO\, 63129\, United States
END:VEVENT
BEGIN:VEVENT
DTSTART;TZID=UTC:20170805T190000
DTEND;TZID=UTC:20170805T220000
DTSTAMP:20260420T071648
CREATED:20170724T204051Z
LAST-MODIFIED:20170724T204051Z
UID:2374-1501959600-1501970400@backstoppers.org
SUMMARY:Bulltown Run For BackStoppers
DESCRIPTION:The 6th Annual Bulltown Run for BackStoppers is August 5th at 7pm. This race will take place either in rain or shine in the evening hours. Included in the 5k or 1 mile fun run/walk is awards for overall male\, female\, and wheeler categories as well as top 3 finishers in age groups. There will also be a first responder challenge that includes a trophy and bragging rights. Post race will include pizza\, snacks\, and more! Register before July 23rd for early bird pricing and guarenteed performace T-shirt. \nAfter July 23\n$40\nFirst Responder Challenge\nAdditional $10\nRegister online at https://register.chronotrack.com/r/31520\nOR Send Registration to:\nBulltown Run For BackStoppers\n6633 Moss Hollow Road\nBarnhart\, MO 63012 OR Same Day Registration from 5:30pm-6:30pm at Antonia Baseball & Softball Fields\n\nSee Flyer Here \nThis event is in honor of eight Jefferson County Fallen Heroes and is presented by BackStoppers Of Jefferson County\, Missouri benefitting The BackStoppers Inc.\n 
URL:https://backstoppers.org/events/bulltown-run-backstoppers/
LOCATION:Antonia Baseball & Softball Association\, 6350 Kneff Rd.\, Imperial\, MO\, 63052\, United States
END:VEVENT
BEGIN:VEVENT
DTSTART;TZID=UTC:20170729T080000
DTEND;TZID=UTC:20170729T120000
DTSTAMP:20260420T071648
CREATED:20170724T202446Z
LAST-MODIFIED:20170724T202446Z
UID:2367-1501315200-1501329600@backstoppers.org
SUMMARY:3rd Annual NWFD Desire & Courage 5k
DESCRIPTION:Join us on July 29th for the 3rd Annual NWFD Desire & Courage 5k! This run will include top three male and female finisher trophies\, age group medals and a special emergency response award for any firefighter\, EMT\, or police officer to finish first. \nRegister by July 12th to recieve a guaranteed performace T-shirt\nRegistration Price After July 12th: $30\nVirtual Runner Price $15\nRace Day Registration is 6:45am-7:45am at Northwest Station #2\, 3407 South Belt West \nTo register please see flyer.\nFor any questions or sponsership inquires please contact: Mark Goerger at 618-233-0235 or nwfpd4201@nwfiredistrict.net \nThis event is benefiting The BackStoppers Inc. and Northwest Fire District
URL:https://backstoppers.org/events/3rd-annual-nwfd-desire-courage-5k/
LOCATION:Belleville Township High School Dist 201\, 4063 Frank Scott Pkwy\, Belleville\, IL\, 62223\, United States
ORGANIZER;CN="Northwest Fire Protection District":MAILTO:nwfpd4201@nwfiredistrict.net
END:VEVENT
BEGIN:VEVENT
DTSTART;TZID=UTC:20170714T080000
DTEND;TZID=UTC:20170728T170000
DTSTAMP:20260420T071648
CREATED:20170724T063254Z
LAST-MODIFIED:20170724T202642Z
UID:2363-1500019200-1501261200@backstoppers.org
SUMMARY:Autobahn Carwash 11 Year Anniversary Celebration
DESCRIPTION:Come on out to Autobahn Carwash for the entire month of July in celebration of their 11 Year Anniversary! \nThere will be a prize raffle with a chance to win a year of unlimited car washes. On pick weekends\, $5 from ever Interior Supreme purchase will go to The BackStoppers Inc.! There will also be free BBQ on every Saturday throughout the month of July. \nThe BackStoppers is solely a recipient of the proceeds and not an organizer of the event.
URL:https://backstoppers.org/events/autobahn-carwash-11-year-anniversary-celebration/
LOCATION:Autobahn Carwash\, 3160 Elm Point Industrial Dr\, St. Charles\, MO\, 63301\, United States
END:VEVENT
END:VCALENDAR