BEGIN:VCALENDAR
VERSION:2.0
PRODID:-//The BackStoppers, Inc. - ECPv6.15.20//NONSGML v1.0//EN
CALSCALE:GREGORIAN
METHOD:PUBLISH
X-WR-CALNAME:The BackStoppers, Inc.
X-ORIGINAL-URL:https://backstoppers.org
X-WR-CALDESC:Events for The BackStoppers, Inc.
REFRESH-INTERVAL;VALUE=DURATION:PT1H
X-Robots-Tag:noindex
X-PUBLISHED-TTL:PT1H
BEGIN:VTIMEZONE
TZID:America/Chicago
BEGIN:DAYLIGHT
TZOFFSETFROM:-0600
TZOFFSETTO:-0500
TZNAME:CDT
DTSTART:20240310T080000
END:DAYLIGHT
BEGIN:STANDARD
TZOFFSETFROM:-0500
TZOFFSETTO:-0600
TZNAME:CST
DTSTART:20241103T070000
END:STANDARD
BEGIN:DAYLIGHT
TZOFFSETFROM:-0600
TZOFFSETTO:-0500
TZNAME:CDT
DTSTART:20250309T080000
END:DAYLIGHT
BEGIN:STANDARD
TZOFFSETFROM:-0500
TZOFFSETTO:-0600
TZNAME:CST
DTSTART:20251102T070000
END:STANDARD
BEGIN:DAYLIGHT
TZOFFSETFROM:-0600
TZOFFSETTO:-0500
TZNAME:CDT
DTSTART:20260308T080000
END:DAYLIGHT
BEGIN:STANDARD
TZOFFSETFROM:-0500
TZOFFSETTO:-0600
TZNAME:CST
DTSTART:20261101T070000
END:STANDARD
END:VTIMEZONE
BEGIN:VEVENT
DTSTART;TZID=America/Chicago:20250518T130000
DTEND;TZID=America/Chicago:20250518T160000
DTSTAMP:20260423T045644
CREATED:20250409T151003Z
LAST-MODIFIED:20250409T151003Z
UID:7164-1747573200-1747584000@backstoppers.org
SUMMARY:Cops & Cones
DESCRIPTION: BackStoppers of Randolph County Cops & Cones will be held on Sunday\, May 18th at Sling n’ Scoops in Red Bud\, IL. \n• 1pm to 4pm\n• Police Officers and Canine On Site\n• View Flyer \nThe BackStoppers\, Inc. is solely a recipient of the proceeds and not an organizer of the event.
URL:https://backstoppers.org/events/cops-cones/
LOCATION:Sling ‘N Scoops\, 204 S. Main Street\, Red Bud\, IL\, 62278\, United States
END:VEVENT
END:VCALENDAR