BEGIN:VCALENDAR
VERSION:2.0
PRODID:-//The BackStoppers, Inc. - ECPv6.15.20//NONSGML v1.0//EN
CALSCALE:GREGORIAN
METHOD:PUBLISH
X-ORIGINAL-URL:https://backstoppers.org
X-WR-CALDESC:Events for The BackStoppers, Inc.
REFRESH-INTERVAL;VALUE=DURATION:PT1H
X-Robots-Tag:noindex
X-PUBLISHED-TTL:PT1H
BEGIN:VTIMEZONE
TZID:UTC
BEGIN:STANDARD
TZOFFSETFROM:+0000
TZOFFSETTO:+0000
TZNAME:UTC
DTSTART:20190101T000000
END:STANDARD
END:VTIMEZONE
BEGIN:VEVENT
DTSTART;TZID=UTC:20200112T080000
DTEND;TZID=UTC:20200112T120000
DTSTAMP:20260423T101810
CREATED:20191212T034202Z
LAST-MODIFIED:20191212T034202Z
UID:4727-1578816000-1578830400@backstoppers.org
SUMMARY:Bartelso Breakfast for BackStoppers
DESCRIPTION:The Bartelso Knights of Columbus and Santa Fe Volunteer Fire Department present a Breakfast for BackStoppers on Sunday\, January 12th at the Bartelso School Cafeteria.\n•8am to Noon\n•Carryouts Available\n• Serving pork sausage\, potatoes\, eggs\, and pancakes\nFlyer \nThe BackStoppers is solely a recipient of the proceeds and not an organizer of the event.
URL:https://backstoppers.org/events/bartelso-breakfast-for-backstoppers/
LOCATION:Bartelso Grade School\, 306 S. Washington St.\, Bartelso\, MO\, 62218\, United States
END:VEVENT
END:VCALENDAR